BEGIN:VCALENDAR

METHOD:PUBLISH
PRODID:-//Typo3 CMS\, Sallingstadt Veranstaltungen

VERSION:2.0


BEGIN:VEVENT
SEQUENCE:0
DTSTART:20260621T074500Z
DTEND:20260621T215900Z
DTSTAMP:20260302T212151Z
SUMMARY:TEICHFEST
LOCATION:Teichhalle Sallingstadt
DESCRIPTION:
UID:tt_news1002@ff.sallingstadt.net

ORGANIZER;CN="":mailto:
ATTENDEE;ROLE=OWNER;STATUS=CONFIRMED: <>

URL;VALUE=URI:http://ff.sallingstadt.net//feuerwehr/aktuelles/aktuelles-detail/article/teichfest-22?tx_ttnews%5BbackPid%5D=143&cHash=49566df929a92f590e433f7da3b01c2f
END:VEVENT

END:VCALENDAR